BEGIN:VCALENDAR
VERSION:2.0
PRODID:-//ChamberMaster//Event Calendar 2.0//EN
METHOD:PUBLISH
X-PUBLISHED-TTL:P3D
REFRESH-INTERVAL:P3D
CALSCALE:GREGORIAN
BEGIN:VEVENT
DTSTART:20260317T123000Z
DTEND:20260317T140000Z
X-MICROSOFT-CDO-ALLDAYEVENT:FALSE
SUMMARY:Gretna Insurance March Madness: Coffee & Connections
DESCRIPTION:Join us for Coffee and Connections!  It's St. Patrick's Day\, It's March Madness\, and it's your chance to fill out your bracket before the games begin!
X-ALT-DESC;FMTTYPE=text/html:Join us for Coffee and Connections!&nbsp\;&nbsp\;<span class="a_GcMg font-feature-liga-off font-feature-clig-off font-feature-calt-off text-decoration-none text-strikethrough-none" style="caret-color: rgb(254\, 254\, 252)\; --Ys-XuQ: none\; font-kerning: normal\;">It&rsquo\;s St. Patrick&rsquo\;s Day\, It&rsquo\;s March Madness\, and it&rsquo\;s your chance to fill out your bracket before the games begin!</span><br />\n&nbsp\;
LOCATION:Gretna Insurance Agency 802 Village Square Gretna\, NE 68028
UID:e.2427.3921
SEQUENCE:3
DTSTAMP:20260424T034813Z
URL:https://business.gretnachamber.com/events/details/gretna-insurance-march-madness-coffee-connections-3921
END:VEVENT

END:VCALENDAR
