BEGIN:VCALENDAR
VERSION:2.0
PRODID:-//ChamberMaster//Event Calendar 2.0//EN
METHOD:PUBLISH
X-PUBLISHED-TTL:P3D
REFRESH-INTERVAL:P3D
CALSCALE:GREGORIAN
BEGIN:VEVENT
DTSTART:20230821T220000Z
DTEND:20230822T000000Z
X-MICROSOFT-CDO-ALLDAYEVENT:FALSE
SUMMARY:Hair Haven Ribbon Cutting & Open House
DESCRIPTION:Hair Haven Gretna \n\n \nJOIN US AUGUST 21ST FROM 5-7 PM FOR AN OPEN HOUSE! COME SEE OUR NEW LOCATION AND MEET OUR TALENTED AND KNOWLEDGEABLE STYLISTS! DRINKS AND SNACKS WILL BE PROVIDED AS YOU ENTER A CHANCE TO WIN A RAFFLE!\n\n\n\nRibbon Cutting at 5 pm.
X-ALT-DESC;FMTTYPE=text/html:<span style="font-size:18px\;">Hair Haven Gretna&nbsp\;</span><br />\n&nbsp\;\n<p class="p1" style="margin: 0px\; font-variant-numeric: normal\; font-variant-east-asian: normal\; font-variant-alternates: normal\; font-kerning: auto\; font-optical-sizing: auto\; font-feature-settings: normal\; font-variation-settings: normal\; font-stretch: normal\; font-size: 12px\; line-height: normal\; font-family: Helvetica\; color: rgb(0\, 0\, 0)\;"><span style="font-size:18px\;">JOIN US AUGUST 21ST FROM 5-7 PM FOR AN OPEN HOUSE! COME SEE OUR NEW LOCATION AND MEET OUR TALENTED AND KNOWLEDGEABLE STYLISTS! DRINKS AND SNACKS WILL BE PROVIDED AS YOU ENTER A CHANCE TO WIN A RAFFLE!<br />\n<br />\n<span style="color: rgb(0\, 0\, 0)\; font-family: Helvetica\;">Ribbon Cutting at 5 pm.&nbsp\;</span></span></p>\n
LOCATION:11532 Willow Park Drive Gretna\, NE 68028
UID:e.2427.2692
SEQUENCE:3
DTSTAMP:20260422T041147Z
URL:https://business.gretnachamber.com/events/details/hair-haven-ribbon-cutting-open-house-2692
END:VEVENT

END:VCALENDAR
