BEGIN:VCALENDAR
VERSION:2.0
PRODID:-//ChamberMaster//Event Calendar 2.0//EN
METHOD:PUBLISH
X-PUBLISHED-TTL:P3D
REFRESH-INTERVAL:P3D
CALSCALE:GREGORIAN
BEGIN:VEVENT
DTSTART:20240523T210000Z
DTEND:20240523T213000Z
X-MICROSOFT-CDO-ALLDAYEVENT:FALSE
SUMMARY:Hoagie's Hawaiian Ice Ribbon Cutting
DESCRIPTION:Join us as we welcome Hoagie's Hawaiian Ice to Gretna!\n\nThis sneak peak Ribbon Cutting is for Gretna Chamber Members only.\n\nSnow cones\, sandwiches\, drinks and prizes!
X-ALT-DESC;FMTTYPE=text/html:<span style="font-size:18px\;">Join us as we welcome Hoagie&#39\;s Hawaiian Ice to Gretna!<br />\n<strong>This sneak peak Ribbon Cutting is for Gretna Chamber Members only.</strong><br />\n<em>Snow cones\, sandwiches\, drinks and prizes!</em></span><br />\n&nbsp\;
LOCATION:215 Enterprise Drive (Ace Hardware Parking lot) Gretna\, NE
UID:e.2427.3251
SEQUENCE:3
DTSTAMP:20260421T143409Z
URL:https://business.gretnachamber.com/events/details/hoagie-s-hawaiian-ice-ribbon-cutting-3251
END:VEVENT

END:VCALENDAR
