BEGIN:VCALENDAR
VERSION:2.0
PRODID:-//ChamberMaster//Event Calendar 2.0//EN
METHOD:PUBLISH
X-PUBLISHED-TTL:P3D
REFRESH-INTERVAL:P3D
CALSCALE:GREGORIAN
BEGIN:VEVENT
DTSTART:20240523T210000Z
DTEND:20240523T233000Z
X-MICROSOFT-CDO-ALLDAYEVENT:FALSE
SUMMARY:Hoagie's Hawaiian Ice - Soft Opening
DESCRIPTION:Join us for Hoagie's Hawaiian Ice  Ribbon Cutting!\n\nHalf priced snow cones\, gift card giveaway\, and sandwiches and drinks!\n\nThis event is open to Chamber Members only. Please register.
X-ALT-DESC;FMTTYPE=text/html:<span style="font-family:arial\;">Join us for&nbsp\;<span style="color: rgb(34\, 34\, 34)\; font-size: small\;"><strong><span style="font-size:14px\;">Hoagie&#39\;s Hawaiian Ice</span></strong>&nbsp\; Ribbon Cutting!<br />\nHalf priced snow cones\, gift card giveaway\, and sandwiches and drinks!<br />\n<span style="font-size:16px\;"><em>This event is open to Chamber Members only. Please register.&nbsp\;</em></span></span></span>
LOCATION:Gretna Ace Hardware parking lot 215 Enterprise Drive Gretna\, NE 68028
UID:e.2427.3250
SEQUENCE:3
DTSTAMP:20260421T130620Z
URL:https://business.gretnachamber.com/events/details/hoagie-s-hawaiian-ice-soft-opening-3250
END:VEVENT

END:VCALENDAR
