BEGIN:VCALENDAR
VERSION:2.0
PRODID:-//ChamberMaster//Event Calendar 2.0//EN
METHOD:PUBLISH
X-PUBLISHED-TTL:P3D
REFRESH-INTERVAL:P3D
CALSCALE:GREGORIAN
BEGIN:VEVENT
DTSTART:20231201T140000Z
DTEND:20231201T153000Z
X-MICROSOFT-CDO-ALLDAYEVENT:FALSE
SUMMARY:Holiday Coffee Pinnacle Bank Gretna
DESCRIPTION:Join us for Holiday Cookies & Coffee at Pinnacle Bank - Gretna\, and be sure to pick up an angel from the Angel Tree to support local families in need this season.
X-ALT-DESC;FMTTYPE=text/html:Join us for Holiday Cookies &amp\; Coffee at Pinnacle Bank - Gretna\, and be sure to pick up an angel from the Angel Tree to support local families in need this season.
LOCATION:817 Village Square Gretna\, NE
UID:e.2427.3222
SEQUENCE:3
DTSTAMP:20260421T212336Z
URL:https://business.gretnachamber.com/events/details/holiday-coffee-pinnacle-bank-gretna-3222
END:VEVENT

END:VCALENDAR
