BEGIN:VCALENDAR
VERSION:2.0
PRODID:-//ChamberMaster//Event Calendar 2.0//EN
METHOD:PUBLISH
X-PUBLISHED-TTL:P3D
REFRESH-INTERVAL:P3D
CALSCALE:GREGORIAN
BEGIN:VEVENT
DTSTART:20161204T223000Z
DTEND:20161204T233000Z
X-MICROSOFT-CDO-ALLDAYEVENT:FALSE
SUMMARY:Holiday Tree Lighting
DESCRIPTION:Join us at the end of Greenery & Glitter for a Holiday Tree Lighting downtown at the Gretna Children's Library.
X-ALT-DESC;FMTTYPE=text/html:<span style="color: rgb(102\, 102\, 102)\; font-family: Arial\, Helvetica\, sans-serif\; font-size: 15px\;">Join us at the end of Greenery &amp\; Glitter for a Holiday Tree Lighting downtown at the Gretna Children&#39\;s Library.</span>
LOCATION:Gretna Public Library - Children's Branch 119 N Mc Kenna Ave Gretna\, NE 68028
UID:e.2427.884
SEQUENCE:3
DTSTAMP:20260422T171128Z
URL:https://business.gretnachamber.com/events/details/holiday-tree-lighting-12-04-2016-884
END:VEVENT

END:VCALENDAR
