BEGIN:VCALENDAR
VERSION:2.0
PRODID:-//ChamberMaster//Event Calendar 2.0//EN
METHOD:PUBLISH
X-PUBLISHED-TTL:P3D
REFRESH-INTERVAL:P3D
CALSCALE:GREGORIAN
BEGIN:VEVENT
DTSTART:20240212T173000Z
DTEND:20240212T183000Z
X-MICROSOFT-CDO-ALLDAYEVENT:FALSE
SUMMARY:Hurrdat Sports Bar & Grill - Ribbon Cutting
DESCRIPTION:Join us in welcoming Hurrdat Bar & Sports Grill with a Ribbon Cutting. Select appetizers and drink specials\, just for our Gretna Chamber Members!
X-ALT-DESC;FMTTYPE=text/html:<span style="color:#0000CD\;"><strong><span style="font-size:16px\;">Join us in welcoming Hurrdat Bar &amp\; Sports Grill with a Ribbon Cutting. Select appetizers and drink specials\, <span style="font-size:18px\;">just for our Gretna Chamber Members!&nbsp\;</span></span></strong></span>
LOCATION:10746 S 204th St St #1 Gretna\, NE 68028 (formerly MacDaros)
UID:e.2427.3228
SEQUENCE:3
DTSTAMP:20260421T175724Z
URL:https://business.gretnachamber.com/events/details/hurrdat-sports-bar-grill-ribbon-cutting-3228
END:VEVENT

END:VCALENDAR
