BEGIN:VCALENDAR
VERSION:2.0
PRODID:-//ChamberMaster//Event Calendar 2.0//EN
METHOD:PUBLISH
X-PUBLISHED-TTL:P3D
REFRESH-INTERVAL:P3D
CALSCALE:GREGORIAN
BEGIN:VEVENT
DTSTART:20230613T140000Z
DTEND:20230613T143000Z
X-MICROSOFT-CDO-ALLDAYEVENT:FALSE
SUMMARY:Hy-Vee Ribbon Cutting
DESCRIPTION:Hy-Vee is here\, let's give them a great Gretna welcome!\n\nEnjoy coffee and donuts as you check out their new store!\n\nBring a friend!
X-ALT-DESC;FMTTYPE=text/html:Hy-Vee is here\, let&#39\;s give them a great Gretna welcome!<br />\nEnjoy coffee and donuts as you check out their new store!<br />\nBring a friend!&nbsp\;&nbsp\;&nbsp\;&nbsp\;
LOCATION:10822 S. 191st St. Gretna\, NE
UID:e.2427.2665
SEQUENCE:3
DTSTAMP:20260422T073905Z
URL:https://business.gretnachamber.com/events/details/hy-vee-ribbon-cutting-2665
END:VEVENT

END:VCALENDAR
