BEGIN:VCALENDAR
VERSION:2.0
PRODID:-//ChamberMaster//Event Calendar 2.0//EN
METHOD:PUBLISH
X-PUBLISHED-TTL:P3D
REFRESH-INTERVAL:P3D
CALSCALE:GREGORIAN
BEGIN:VEVENT
DTSTART:20260130T210000Z
DTEND:20260131T010000Z
X-MICROSOFT-CDO-ALLDAYEVENT:FALSE
SUMMARY:LIVE Hydration Spa - Grand Opening & Ribbon Cutting
DESCRIPTION:Grand Opening Open House and Ribbon Cutting.
X-ALT-DESC;FMTTYPE=text/html:Grand Opening Open House and Ribbon Cutting.
LOCATION:16918 Morgan Ave Suite 9\, Gretna\, NE 68028
UID:e.2427.3928
SEQUENCE:3
DTSTAMP:20260421T112635Z
URL:https://business.gretnachamber.com/events/details/live-hydration-spa-grand-opening-ribbon-cutting-3928
END:VEVENT

END:VCALENDAR
