BEGIN:VCALENDAR
VERSION:2.0
PRODID:-//ChamberMaster//Event Calendar 2.0//EN
METHOD:PUBLISH
X-PUBLISHED-TTL:P3D
REFRESH-INTERVAL:P3D
CALSCALE:GREGORIAN
BEGIN:VEVENT
DTSTART:20170119T173000Z
DTEND:20170119T190000Z
X-MICROSOFT-CDO-ALLDAYEVENT:FALSE
SUMMARY:Lunch and Learn: Retention of Good Employees
DESCRIPTION:Join us for the first Lunch & Learn of the year!  \n\n\n\nMike Hemke comes highly recommended from the Ralston Chamber of Commerce and will be speaking on the topic "Retention of Good Employees - What are the new 3 Keys to Retention?"
X-ALT-DESC;FMTTYPE=text/html:<span style="font-size:14px\;"><span style="font-family:arial\;"><em><strong>Join us for the first Lunch &amp\; Learn of the year! &nbsp\;</strong></em><br />\n<br />\nMike Hemke comes highly recommended from the Ralston Chamber of Commerce and will be speaking on the topic &quot\;<span style="color:black\;">Retention of Good Employees - What are the new 3 Keys to Retention?&rdquo\;&nbsp\;</span></span></span>
LOCATION:Scrappin' Studio 913 Village Square Gretna\, NE 68028
UID:e.2427.1366
SEQUENCE:3
DTSTAMP:20260422T151820Z
URL:https://business.gretnachamber.com/events/details/lunch-and-learn-retention-of-good-employees-1366
END:VEVENT

END:VCALENDAR
