BEGIN:VCALENDAR
VERSION:2.0
PRODID:-//ChamberMaster//Event Calendar 2.0//EN
METHOD:PUBLISH
X-PUBLISHED-TTL:P3D
REFRESH-INTERVAL:P3D
CALSCALE:GREGORIAN
BEGIN:VEVENT
DTSTART:20260515T200000Z
DTEND:20260515T213000Z
X-MICROSOFT-CDO-ALLDAYEVENT:FALSE
SUMMARY:Moments in Bloom: Afternoon Tea at The Willows
DESCRIPTION:Join us as we celebrate National Skilled Nursing Care Week with an afternoon of connection\, conversation\, and community.\n\nIn partnership with The Willows\, the Gretna Chamber invites our members and the community to enjoy a relaxed Afternoon Tea Social with residents because the best moments are the ones we share.  \n\n  Date: Friday\, May 15\, 2026\n\n  Time: 3:00 PM   4:30 PM\n\n  Location: The Willows\n\n  Stop by\, say hello\, and brighten someone's day\n\n  Enjoy light refreshments and tea\n\n  Make meaningful connections with residents and fellow community members\n\n  Casual networking in a truly special setting\n\nThis year's theme\, "Moments in Bloom\," is all about celebrating the small\, meaningful interactions that bring joy and we'd love for you to be part of it.\n\nNo formal program just come when you can\, stay as long as you'd like\, and share a smile.
X-ALT-DESC;FMTTYPE=text/html:<p data-end="268" data-start="144">Join us as we celebrate <strong data-end="206" data-start="168">National Skilled Nursing Care Week</strong> with an afternoon of connection\, conversation\, and community.</p>\n\n<p data-end="469" data-start="270">In partnership with The Willows\, the Gretna Chamber invites our members and the community to enjoy a relaxed <strong data-end="403" data-start="379">Afternoon Tea Social</strong> with residents&mdash\;because the best moments are the ones we share. &#128144\;</p>\n\n<p data-end="569" data-start="471"><strong data-end="483" data-start="471">&#128197\; Date:</strong> Friday\, May 15\, 2026<br data-end="507" data-start="504" />\n<strong data-end="518" data-start="507">&#9200\; Time:</strong> 3:00 PM &ndash\; 4:30 PM<br data-end="539" data-start="536" />\n<strong data-end="555" data-start="539">&#128205\; Location:</strong> The Willows</p>\n\n<p data-end="783" data-start="571">&#10024\; Stop by\, say hello\, and brighten someone&rsquo\;s day<br data-end="622" data-start="619" />\n&#10024\; Enjoy light refreshments and tea<br data-end="659" data-start="656" />\n&#10024\; Make meaningful connections with residents and fellow community members<br data-end="735" data-start="732" />\n&#10024\; Casual networking in a truly special setting</p>\n\n<p data-end="942" data-start="785">This year&rsquo\;s theme\, <strong data-end="827" data-start="804">&ldquo\;Moments in Bloom\,&rdquo\;</strong> is all about celebrating the small\, meaningful interactions that bring joy&mdash\;and we&rsquo\;d love for you to be part of it.</p>\n\n<p data-end="1035" data-start="944">No formal program&mdash\;just come when you can\, stay as long as you&rsquo\;d like\, and share a smile. &#128522\;</p>\n
LOCATION:700 S. Highway 6 Gretna\, NE 68028
UID:e.2427.4004
SEQUENCE:3
DTSTAMP:20260424T003621Z
URL:https://business.gretnachamber.com/events/details/moments-in-bloom-afternoon-tea-at-the-willows-4004
END:VEVENT

END:VCALENDAR
