BEGIN:VCALENDAR
VERSION:2.0
PRODID:-//ChamberMaster//Event Calendar 2.0//EN
METHOD:PUBLISH
X-PUBLISHED-TTL:P3D
REFRESH-INTERVAL:P3D
CALSCALE:GREGORIAN
BEGIN:VEVENT
DTSTART:20240104T133000Z
DTEND:20240104T153000Z
X-MICROSOFT-CDO-ALLDAYEVENT:FALSE
SUMMARY:NLA and AIM Nutrition Coffee & Connections
DESCRIPTION:Join Next Level Academy & AIM Nutrition Consulting for the first Coffee & Connections event of the year! On Thursday\, January 4th\, we will provide coffee & snacks starting at 7:30 am.\n\n\n\nWear your workout clothes and stay for a FREE 60-minute fitness class at 8:30 am!\n\n\n\nWe can't wait to see you all there.
X-ALT-DESC;FMTTYPE=text/html:Join Next Level Academy &amp\; AIM Nutrition Consulting for the<strong> first Coffee &amp\; Connections event of the year!</strong> On Thursday\, January 4th\, we will provide coffee &amp\; snacks starting at 7:30 am.<br />\n<br />\n<span style="font-size:18px\;">Wear your workout clothes and stay for a <strong>FREE 60-minute fitness class at 8:30 am!</strong></span><br />\n<br />\nWe can&#39\;t wait to see you all there.
LOCATION:Next Level Academy 20164 Husker Dr Gretna NE 68028
UID:e.2427.3224
SEQUENCE:3
DTSTAMP:20260421T193804Z
URL:https://business.gretnachamber.com/events/details/nla-and-aim-nutrition-coffee-connections-3224
END:VEVENT

END:VCALENDAR
