BEGIN:VCALENDAR
VERSION:2.0
PRODID:-//ChamberMaster//Event Calendar 2.0//EN
METHOD:PUBLISH
X-PUBLISHED-TTL:P3D
REFRESH-INTERVAL:P3D
CALSCALE:GREGORIAN
BEGIN:VEVENT
DTSTART;VALUE=DATE:20180704
DTEND;VALUE=DATE:20180705
TRANSP:TRANSPARENT
X-MICROSOFT-CDO-ALLDAYEVENT:TRUE
SUMMARY:Office Closed: Independence Day
DESCRIPTION:Our office will be closed on Wednesday\, July 4th for Independence Day.  We will re-open per our normal hours on Thursday\, July 5th at 8am.
X-ALT-DESC;FMTTYPE=text/html:Our office will be closed on Wednesday\, July 4th&nbsp\;for Independence Day.&nbsp\; We will re-open per our normal hours on Thursday\, July 5th at 8am.
LOCATION:
UID:e.2427.2035
SEQUENCE:3
DTSTAMP:20260422T085204Z
URL:https://business.gretnachamber.com/events/details/office-closed-independence-day-2035
END:VEVENT

END:VCALENDAR
