BEGIN:VCALENDAR
VERSION:2.0
PRODID:-//ChamberMaster//Event Calendar 2.0//EN
METHOD:PUBLISH
X-PUBLISHED-TTL:P3D
REFRESH-INTERVAL:P3D
CALSCALE:GREGORIAN
BEGIN:VEVENT
DTSTART:20240215T223000Z
DTEND:20240215T230000Z
X-MICROSOFT-CDO-ALLDAYEVENT:FALSE
SUMMARY:Omaha H2O - Ribbon Cutting
DESCRIPTION:Help us welcome Omaha H2O with a Ribbon Cutting & After Hours event!
X-ALT-DESC;FMTTYPE=text/html:<span style="font-size:16px\;">Help us welcome <span style="color:#0000CD\;"><strong>Omaha H2O</strong></span> with a Ribbon Cutting &amp\; After Hours event!&nbsp\;</span>
LOCATION:20310 NE-50\, Springfield\, NE 68059
UID:e.2427.3234
SEQUENCE:3
DTSTAMP:20260421T175220Z
URL:https://business.gretnachamber.com/events/details/omaha-h2o-ribbon-cutting-3234
END:VEVENT

END:VCALENDAR
