BEGIN:VCALENDAR
VERSION:2.0
PRODID:-//ChamberMaster//Event Calendar 2.0//EN
METHOD:PUBLISH
X-PUBLISHED-TTL:P3D
REFRESH-INTERVAL:P3D
CALSCALE:GREGORIAN
BEGIN:VEVENT
DTSTART:20170411T223000Z
DTEND:20170412T030000Z
X-MICROSOFT-CDO-ALLDAYEVENT:FALSE
SUMMARY:Omaha Storm Chasers: OPENING NIGHT
DESCRIPTION:OPENING NIGHT for the Omaha Storm Chasers! April 11th marks our 7th season at Werner Park. Join us to kick off the 2017 season\, first pitch is set for 6:35pm against the Round Rock Express. Get ready to STIR IT UP!
X-ALT-DESC;FMTTYPE=text/html:OPENING NIGHT for the Omaha Storm Chasers! April 11th marks our 7th season at Werner Park. Join us to kick off the 2017 season\, first pitch is set for 6:35pm against the Round Rock Express. Get ready to STIR IT UP!
LOCATION:Werner Park 12356 Ballpark Way Papillion\, NE 68046
UID:e.2427.1546
SEQUENCE:3
DTSTAMP:20260422T085320Z
URL:https://business.gretnachamber.com/events/details/omaha-storm-chasers-opening-night-1546
END:VEVENT

END:VCALENDAR
