BEGIN:VCALENDAR
VERSION:2.0
PRODID:-//ChamberMaster//Event Calendar 2.0//EN
METHOD:PUBLISH
X-PUBLISHED-TTL:P3D
REFRESH-INTERVAL:P3D
CALSCALE:GREGORIAN
BEGIN:VEVENT
DTSTART:20231005T200000Z
DTEND:20231005T220000Z
X-MICROSOFT-CDO-ALLDAYEVENT:FALSE
SUMMARY:Omaha Strong in Six Event
DESCRIPTION:Join Gretna Chamber Member EOS (Entrepreneurial Operating System) to Learn how to get real\, simple results for your organization.\n\n~Understand the Six key Components of a truly great business.\n\n~Acquire a set of simple tools proven to help run your business.\n\n~Connect with like-minded business owners\, leaders and coaches.
X-ALT-DESC;FMTTYPE=text/html:<strong>Join Gretna Chamber Member EOS (Entrepreneurial Operating System) to Learn how to get real\, simple results for your organization.</strong><br />\n~Understand the Six key Components of a truly great business.<br />\n~Acquire a set of simple tools proven to help run your business.<br />\n~Connect with like-minded business owners\, leaders and coaches.
LOCATION:Kros Strain Brewery 10411 Portal Road #102 Omaha\, NE
UID:e.2427.2707
SEQUENCE:3
DTSTAMP:20260422T024207Z
URL:https://business.gretnachamber.com/events/details/omaha-strong-in-six-event-2707
END:VEVENT

END:VCALENDAR
