BEGIN:VCALENDAR
VERSION:2.0
PRODID:-//ChamberMaster//Event Calendar 2.0//EN
METHOD:PUBLISH
X-PUBLISHED-TTL:P3D
REFRESH-INTERVAL:P3D
CALSCALE:GREGORIAN
BEGIN:VEVENT
DTSTART:20240630T160000Z
DTEND:20240630T190000Z
X-MICROSOFT-CDO-ALLDAYEVENT:FALSE
SUMMARY:Paws at the Park
DESCRIPTION:The City of Gretna announces their first annual Paws at the Park!\n\n**This was rescheduled due to weather on 6/2**\n\n\n\nLocated at the New Gretna Crossing Park sponsored by United Republic Bank Dog Park at 12505 S 208th Ave\, Gretna NE.\n\n\n\nVendors\, games\, and fun - open to all dogs any age! Free for all attendees! Plenty of fun "carnival" style games for your pupts to enjoy throughout the dog park. We hope to see you and your pups there!\n\n\n\nFind this on Facebook: https://www.facebook.com/share/EbB8SSCYtknBRbyD/
X-ALT-DESC;FMTTYPE=text/html:The City of Gretna announces their first annual Paws at the Park!<br />\n**This was rescheduled due to weather on 6/2**<br />\n<br />\nLocated at the New Gretna Crossing Park sponsored by United Republic Bank Dog Park at 12505 S 208th Ave\, Gretna NE.<br />\n<br />\nVendors\, games\, and fun - open to all dogs any age! Free for all attendees! Plenty of fun &quot\;carnival&quot\; style games for your pupts to enjoy throughout the dog park. We hope to see you and your pups there!<br />\n<br />\nFind this on Facebook: https://www.facebook.com/share/EbB8SSCYtknBRbyD/
LOCATION:Gretna Crossing Park 21280 Capehart Rd Gretna\, NE United States
UID:e.2427.3283
SEQUENCE:3
DTSTAMP:20260421T083619Z
URL:https://business.gretnachamber.com/events/details/paws-at-the-park-3283
END:VEVENT

END:VCALENDAR
