BEGIN:VCALENDAR
VERSION:2.0
PRODID:-//ChamberMaster//Event Calendar 2.0//EN
METHOD:PUBLISH
X-PUBLISHED-TTL:P3D
REFRESH-INTERVAL:P3D
CALSCALE:GREGORIAN
BEGIN:VEVENT
DTSTART:20240524T210000Z
DTEND:20240524T213000Z
X-MICROSOFT-CDO-ALLDAYEVENT:FALSE
SUMMARY:Prime Time H2O Zone - Ribbon Cutting & Open House
DESCRIPTION:Join us at the Ribbon Cutting & Open House for Prime Time H2O Zone located at the Gretna Crossing YMCA.
X-ALT-DESC;FMTTYPE=text/html:Join us at the Ribbon Cutting &amp\; Open House for Prime Time H2O Zone located at the Gretna Crossing YMCA.&nbsp\;
LOCATION:Gretna Crossing YMCA 12358 S 208th Ave Gretna\, NE 68028 The south end of the parking lot
UID:e.2427.3247
SEQUENCE:3
DTSTAMP:20260421T100615Z
URL:https://business.gretnachamber.com/events/details/prime-time-h2o-zone-ribbon-cutting-open-house-3247
END:VEVENT

END:VCALENDAR
