BEGIN:VCALENDAR
VERSION:2.0
PRODID:-//ChamberMaster//Event Calendar 2.0//EN
METHOD:PUBLISH
X-PUBLISHED-TTL:P3D
REFRESH-INTERVAL:P3D
CALSCALE:GREGORIAN
BEGIN:VEVENT
DTSTART:20240612T213000Z
DTEND:20240612T220000Z
X-MICROSOFT-CDO-ALLDAYEVENT:FALSE
SUMMARY:Ribbon Cutting 5 Thirty One Pizza and Phillies
DESCRIPTION:Ribbon Cutting\n\n4:30 pm
X-ALT-DESC;FMTTYPE=text/html:<span style="font-size:16px\;"><strong>Ribbon Cutting<br />\n4:30 pm</strong></span><br />\n&nbsp\;
LOCATION:5 Thirty One Pizza and Phillies (formerly Lansky's Pizza and Pasta) 16918 Morgan Ave. Gretna\, NE
UID:e.2427.3255
SEQUENCE:3
DTSTAMP:20260421T125718Z
URL:https://business.gretnachamber.com/events/details/ribbon-cutting-5-thirty-one-pizza-and-phillies-3255
END:VEVENT

END:VCALENDAR
