BEGIN:VCALENDAR
VERSION:2.0
PRODID:-//ChamberMaster//Event Calendar 2.0//EN
METHOD:PUBLISH
X-PUBLISHED-TTL:P3D
REFRESH-INTERVAL:P3D
CALSCALE:GREGORIAN
BEGIN:VEVENT
DTSTART:20161109T140000Z
DTEND:20161109T153000Z
X-MICROSOFT-CDO-ALLDAYEVENT:FALSE
SUMMARY:Ribbon Cutting: Gretna Plumbing & Drain
DESCRIPTION:PLEASE NOTE: Date has been changed.\n\n\n\nJoin us for a Ribbon Cutting at Gretna Plumbing and Drain's new Showroom!  \n\n\n\n8am-9am Coffee and Networking\n\n9am Plaque Presentation and Ribbon Cutting
X-ALT-DESC;FMTTYPE=text/html:PLEASE NOTE: Date has been changed.<br />\n<br />\nJoin us for a Ribbon Cutting at Gretna Plumbing and Drain&#39\;s new Showroom! &nbsp\;<br />\n<br />\n8am-9am&nbsp\;Coffee and Networking<br />\n9am Plaque Presentation and Ribbon Cutting
LOCATION:111 Cort Plaza Gretna\, NE 68028
UID:e.2427.923
SEQUENCE:3
DTSTAMP:20260423T164902Z
URL:https://business.gretnachamber.com/events/details/ribbon-cutting-gretna-plumbing-drain-923
END:VEVENT

END:VCALENDAR
