BEGIN:VCALENDAR
VERSION:2.0
PRODID:-//ChamberMaster//Event Calendar 2.0//EN
METHOD:PUBLISH
X-PUBLISHED-TTL:P3D
REFRESH-INTERVAL:P3D
CALSCALE:GREGORIAN
BEGIN:VEVENT
DTSTART:20170505T210000Z
DTEND:20170507T030000Z
X-MICROSOFT-CDO-ALLDAYEVENT:FALSE
SUMMARY:Sip Nebraska Wine Festival
DESCRIPTION:Every spring Sip Nebraska (formally known as Toast Nebraska) brings together a passionate community of local wineries and their fans to celebrate the wine industry. The event takes place on Friday\, May 5th and Saturday\, May 6th. Ticket prices range from $25-$60. Features: local wineries\, live music\, food and artisan vendors. Visit www.sipnebraska.com for more information.
X-ALT-DESC;FMTTYPE=text/html:Every spring Sip Nebraska (formally known as Toast Nebraska) brings together a passionate community of local wineries and their fans to celebrate the wine industry. The event takes place on Friday\, May 5th and Saturday\, May 6th. Ticket prices range from $25-$60. Features: local wineries\, live music\, food and artisan vendors. Visit www.sipnebraska.com for more information.
LOCATION:Mahoney State Park 28500 W Park Hwy\, Ashland\, NE 68003
UID:e.2427.1518
SEQUENCE:3
DTSTAMP:20260422T091438Z
URL:https://business.gretnachamber.com/events/details/sip-nebraska-wine-festival-1518
END:VEVENT

END:VCALENDAR
