BEGIN:VCALENDAR
VERSION:2.0
PRODID:-//ChamberMaster//Event Calendar 2.0//EN
METHOD:PUBLISH
X-PUBLISHED-TTL:P3D
REFRESH-INTERVAL:P3D
CALSCALE:GREGORIAN
BEGIN:VEVENT
DTSTART:20260502T140000Z
DTEND:20260502T190000Z
X-MICROSOFT-CDO-ALLDAYEVENT:FALSE
SUMMARY:Skills & Grilles @ Gretna High School
DESCRIPTION:GHS & GEHS SkillsUSA with Meadowlark Model A Ford Club Present: \n\nSkills & Grilles\n\nRegistration: 9:00am-11:30am\n\nVoting Ends: 11:30am\n\nClass Trophies: 2:00pm\n\n\n\nAll Makes and Models Welcome
X-ALT-DESC;FMTTYPE=text/html:GHS &amp\; GEHS SkillsUSA with Meadowlark Model A Ford Club Present:&nbsp\;<br />\nSkills &amp\; Grilles<br />\nRegistration: 9:00am-11:30am<br />\nVoting Ends: 11:30am<br />\nClass Trophies: 2:00pm<br />\n<br />\nAll Makes and Models Welcome
LOCATION:Gretna High School
UID:e.2427.3964
SEQUENCE:3
DTSTAMP:20260424T004832Z
URL:https://business.gretnachamber.com/events/details/skills-grilles-gretna-high-school-3964
END:VEVENT

END:VCALENDAR
