BEGIN:VCALENDAR
VERSION:2.0
PRODID:-//ChamberMaster//Event Calendar 2.0//EN
METHOD:PUBLISH
X-PUBLISHED-TTL:P3D
REFRESH-INTERVAL:P3D
CALSCALE:GREGORIAN
BEGIN:VEVENT
DTSTART;VALUE=DATE:20260501
DTEND;VALUE=DATE:20261001
TRANSP:TRANSPARENT
X-MICROSOFT-CDO-ALLDAYEVENT:TRUE
SUMMARY:Spare Time Entertainment - Kids Bowl Free
DESCRIPTION:Summer Fun Starts Here!\n\nKids Bowl FREE at Spare Time Entertainment all Summer long! \n\n~ Kids 15 & under\n\n~ 2 FREE games of bowling every day\n\n~ May 1   September 30\n\nRegistration opens on March 1 at\n\nwww.kidsbowlfree.com \n\nGrab the Family Pass and enjoy 2 games per day all summer for up to 4 family members!\n\nSunday Thursday: Open Close\n\nFriday & Saturday: Open 5 PM\n\nShoes not included.
X-ALT-DESC;FMTTYPE=text/html:<p style="margin-left:0in\; margin-right:0in"><span style="font-family:times new roman\,serif\; font-size:14.5pt">Summer Fun Starts Here!</span></p>\n\n<p><span style="font-family:times new roman\,serif\; font-size:14.5pt">Kids Bowl FREE at Spare Time Entertainment all Summer long!&nbsp\;</span></p>\n\n<p><span style="font-family:times new roman\,serif\; font-size:14.5pt">~ Kids 15 &amp\; under</span></p>\n\n<p><span style="font-family:times new roman\,serif\; font-size:14.5pt">~ 2 FREE games of bowling every day</span></p>\n\n<p><span style="font-family:times new roman\,serif\; font-size:14.5pt">~ May 1 &ndash\; September 30</span></p>\n\n<p><span style="font-family:times new roman\,serif\; font-size:14.5pt">Registration opens on March 1 at</span></p>\n\n<p><span style="font-family:times new roman\,serif\; font-size:14.5pt"><a href="file://www.kidsbowlfree.com" style="-webkit-user-select: auto">www.kidsbowlfree.com</a>&nbsp\;</span></p>\n\n<p><span style="font-family:times new roman\,serif\; font-size:14.5pt">Grab the Family Pass and enjoy 2 games per day all summer for up to 4 family members!</span></p>\n\n<p><span style="font-family:times new roman\,serif\; font-size:14.5pt">Sunday&ndash\;Thursday: Open&ndash\;Close</span></p>\n\n<p><span style="font-family:times new roman\,serif\; font-size:14.5pt">Friday &amp\; Saturday: Open&ndash\;5 PM</span></p>\n\n<p><span style="font-family:times new roman\,serif\; font-size:14.5pt">Shoes not included.&nbsp\;</span></p>\n
LOCATION:Spare Time Entertainment 17202 Lakeside Hills Plaza Omaha\, NE
UID:e.2427.3962
SEQUENCE:3
DTSTAMP:20260424T004737Z
URL:https://business.gretnachamber.com/events/details/spare-time-entertainment-kids-bowl-free-3962
END:VEVENT

END:VCALENDAR
