BEGIN:VCALENDAR
VERSION:2.0
PRODID:-//ChamberMaster//Event Calendar 2.0//EN
METHOD:PUBLISH
X-PUBLISHED-TTL:P3D
REFRESH-INTERVAL:P3D
CALSCALE:GREGORIAN
BEGIN:VEVENT
DTSTART:20240131T220000Z
DTEND:20240201T000000Z
X-MICROSOFT-CDO-ALLDAYEVENT:FALSE
SUMMARY:Sparetime Entertainment - Ribbon Cutting
DESCRIPTION:Join us in welcoming Sparetime Entertainment with a Ribbon Cutting. Just for our Gretna Chamber Members!
X-ALT-DESC;FMTTYPE=text/html:<strong style="color: rgb(0\, 0\, 205)\;"><span style="font-size: 16px\;">Join us in welcoming Sparetime Entertainment with a Ribbon Cutting. J<span style="font-size: 18px\;">ust for our Gretna Chamber Members!&nbsp\;</span></span></strong>
LOCATION:17202 Lakeside Hills Plaza Omaha\, NE 68130
UID:e.2427.3230
SEQUENCE:3
DTSTAMP:20260421T193927Z
URL:https://business.gretnachamber.com/events/details/sparetime-entertainment-ribbon-cutting-3230
END:VEVENT

END:VCALENDAR
