BEGIN:VCALENDAR
VERSION:2.0
PRODID:-//ChamberMaster//Event Calendar 2.0//EN
METHOD:PUBLISH
X-PUBLISHED-TTL:P3D
REFRESH-INTERVAL:P3D
CALSCALE:GREGORIAN
BEGIN:VEVENT
DTSTART:20260418T150000Z
DTEND:20260418T190000Z
X-MICROSOFT-CDO-ALLDAYEVENT:FALSE
SUMMARY:Spring Fling Boutique
DESCRIPTION:Celebrate the season at this fun-filled shopping event featuring unique gifts\, seasonal decor\, accessories and more from local vendors. \n\n\n\nInterested in being a vendor? Contact Laura at (402) 557-5557.
X-ALT-DESC;FMTTYPE=text/html:Celebrate the season at this fun-filled shopping event featuring unique gifts\, seasonal decor\, accessories and more from local vendors.&nbsp\;<br />\n<br />\n<em>Interested in being a vendor? Contact Laura at (402) 557-5557.</em>
LOCATION:Hillcrest Highlands of Gretna - Highlands Hall 10890 S. 208th St. Gretna\, NE 68028
UID:e.2427.3963
SEQUENCE:3
DTSTAMP:20260423T224035Z
URL:https://business.gretnachamber.com/events/details/spring-fling-boutique-04-18-2026-3963
END:VEVENT

END:VCALENDAR
