BEGIN:VCALENDAR
VERSION:2.0
PRODID:-//ChamberMaster//Event Calendar 2.0//EN
METHOD:PUBLISH
X-PUBLISHED-TTL:P3D
REFRESH-INTERVAL:P3D
CALSCALE:GREGORIAN
BEGIN:VEVENT
DTSTART:20260416T183000Z
DTEND:20260416T223000Z
X-MICROSOFT-CDO-ALLDAYEVENT:FALSE
SUMMARY:Swing into Spring @ Net Par 2026
DESCRIPTION:SPRING SWING SCHOLARSHIP GOLF SCRAMBLE at NETPAR\n\nJoin us for a four-person scramble at NetPar for our Spring Swing Fundraiser benefiting the Gretna Chamber Scholarship Fun!  Register as an individual or grab your foursome and hit the greens for a great cause. \n\n\n\nNot a golfer?  No problem!  We offer a social entry option so you can still join the fun\, enjoy food\, drink\, and connect with fellow Chamber members and community friends.\n\n\n\nThe day will include golf\, networking\, food\, drink\, a 50/50 Raffle\, and fun contests like Closest to the Pin and Longest Drive.  Oh\, did I mention you'll be playing the Pebble Beach Links...\n\n\n\nWinning Foursome will each receive a Net Par Annual Membership + 2 free hours and major bragging rights. \n\n\n\nSponsored By: Dean Snyder Construction and Juiced Fuel of Omaha
X-ALT-DESC;FMTTYPE=text/html:<span style="font-size:16px\;"><strong>SPRING SWING SCHOLARSHIP GOLF SCRAMBLE at NETPAR</strong></span><br />\nJoin us for a four-person scramble at NetPar for our Spring Swing Fundraiser benefiting the Gretna Chamber Scholarship Fun!&nbsp\; Register as an individual or grab your foursome and hit the greens for a great cause.&nbsp\;<br />\n<br />\nNot a golfer?&nbsp\; No problem!&nbsp\; We offer a social entry option so you can still join the fun\, enjoy food\, drink\, and connect with fellow Chamber members and community friends.<br />\n<br />\nThe day will include golf\, networking\, food\, drink\, a 50/50 Raffle\, and fun contests like Closest to the Pin and Longest Drive.&nbsp\; Oh\, did I mention you&#39\;ll be playing the Pebble Beach Links...<br />\n<br />\nWinning Foursome will each receive a Net Par Annual Membership + 2 free hours and major bragging rights.&nbsp\;<br />\n<br />\nSponsored By: Dean Snyder Construction and Juiced Fuel of Omaha
LOCATION:Net Par 17870 Oakmont Dr\, Omaha\, NE 68136
UID:e.2427.3951
SEQUENCE:3
DTSTAMP:20260423T212621Z
URL:https://business.gretnachamber.com/events/details/spring-swing-net-par-3951
END:VEVENT

END:VCALENDAR
