BEGIN:VCALENDAR
VERSION:2.0
PRODID:-//ChamberMaster//Event Calendar 2.0//EN
METHOD:PUBLISH
X-PUBLISHED-TTL:P3D
REFRESH-INTERVAL:P3D
CALSCALE:GREGORIAN
BEGIN:VEVENT
DTSTART:20221206T160000Z
DTEND:20221206T170000Z
X-MICROSOFT-CDO-ALLDAYEVENT:FALSE
SUMMARY:Story time with Santa
DESCRIPTION:Story time with Santa!!
X-ALT-DESC;FMTTYPE=text/html:Story time with Santa!!&nbsp\;&nbsp\;&nbsp\;&nbsp\;&nbsp\;&nbsp\;&nbsp\;&nbsp\;
LOCATION:Stories Coffee Co 10520 S. 204th St. Gretna\, NE
UID:e.2427.2617
SEQUENCE:3
DTSTAMP:20260422T173451Z
URL:https://business.gretnachamber.com/events/details/story-time-with-santa-2617
END:VEVENT

END:VCALENDAR
