BEGIN:VCALENDAR
VERSION:2.0
PRODID:-//ChamberMaster//Event Calendar 2.0//EN
METHOD:PUBLISH
X-PUBLISHED-TTL:P3D
REFRESH-INTERVAL:P3D
CALSCALE:GREGORIAN
BEGIN:VEVENT
DTSTART:20230610T190000Z
DTEND:20230610T210000Z
X-MICROSOFT-CDO-ALLDAYEVENT:FALSE
SUMMARY:Summer Wine Expo
DESCRIPTION:Try nearly 40 different wines PERFECT for summertime while enjoying sweet deserts from The Brownie Bar Food Truck!
X-ALT-DESC;FMTTYPE=text/html:Try nearly 40 different wines&nbsp\;<em>PERFECT</em>&nbsp\;for summertime while enjoying sweet deserts from The Brownie Bar Food Truck!
LOCATION:
UID:e.2427.2669
SEQUENCE:3
DTSTAMP:20260422T092020Z
URL:https://business.gretnachamber.com/events/details/summer-wine-expo-2669
END:VEVENT

END:VCALENDAR
