BEGIN:VCALENDAR
VERSION:2.0
PRODID:-//ChamberMaster//Event Calendar 2.0//EN
METHOD:PUBLISH
X-PUBLISHED-TTL:P3D
REFRESH-INTERVAL:P3D
CALSCALE:GREGORIAN
BEGIN:VEVENT
DTSTART:20230629T203000Z
DTEND:20230629T210000Z
X-MICROSOFT-CDO-ALLDAYEVENT:FALSE
SUMMARY:Tiburon Ridge Ribbon Cutting
DESCRIPTION:Tiburon Ridge is celebrating their Grand Opening!  Join us for the Ribbon Cutting followed by music with Lemon Fresh Day\, food\, drinks\, tours and games!
X-ALT-DESC;FMTTYPE=text/html:Tiburon Ridge is celebrating their Grand Opening!&nbsp\; Join us for the Ribbon Cutting followed by music with Lemon Fresh Day\, food\, drinks\, tours and games!
LOCATION:Tiburon Ridge Apartments 17801 Cypress Dr. Gretna\, NE
UID:e.2427.2670
SEQUENCE:3
DTSTAMP:20260422T071621Z
URL:https://business.gretnachamber.com/events/details/tiburon-ridge-ribbon-cutting-2670
END:VEVENT

END:VCALENDAR
