BEGIN:VCALENDAR
VERSION:2.0
PRODID:-//ChamberMaster//Event Calendar 2.0//EN
METHOD:PUBLISH
X-PUBLISHED-TTL:P3D
REFRESH-INTERVAL:P3D
CALSCALE:GREGORIAN
BEGIN:VEVENT
DTSTART:20240525T150000Z
DTEND:20240525T170000Z
X-MICROSOFT-CDO-ALLDAYEVENT:FALSE
SUMMARY:West O Dermatology - Ribbon Cutting & Open House
DESCRIPTION:Join us at West O Dermatology for a Ribbon Cutting & Open House\n\n	Skincare promo\n	Botox promo\n	Refreshments
X-ALT-DESC;FMTTYPE=text/html:Join us at West O Dermatology for a Ribbon Cutting &amp\; Open House\n<ul>\n	<li>Skincare promo</li>\n	<li>Botox promo</li>\n	<li>Refreshments</li>\n</ul>\n
LOCATION:11717 Bryan St Gretna\, NE 68028
UID:e.2427.3248
SEQUENCE:3
DTSTAMP:20260421T143312Z
URL:https://business.gretnachamber.com/events/details/west-o-dermatology-ribbon-cutting-open-house-3248
END:VEVENT

END:VCALENDAR
